BEGIN:VCALENDAR
VERSION:2.0
PRODID:-//Natividad : Inspirando vidas saludables - ECPv6.15.19//NONSGML v1.0//EN
CALSCALE:GREGORIAN
METHOD:PUBLISH
X-WR-CALNAME:Natividad : Inspirando vidas saludables
X-ORIGINAL-URL:https://espanol.natividad.com
X-WR-CALDESC:Events for Natividad : Inspirando vidas saludables
REFRESH-INTERVAL;VALUE=DURATION:PT1H
X-Robots-Tag:noindex
X-PUBLISHED-TTL:PT1H
BEGIN:VTIMEZONE
TZID:America/Los_Angeles
BEGIN:DAYLIGHT
TZOFFSETFROM:-0800
TZOFFSETTO:-0700
TZNAME:PDT
DTSTART:20160313T100000
END:DAYLIGHT
BEGIN:STANDARD
TZOFFSETFROM:-0700
TZOFFSETTO:-0800
TZNAME:PST
DTSTART:20161106T090000
END:STANDARD
BEGIN:DAYLIGHT
TZOFFSETFROM:-0800
TZOFFSETTO:-0700
TZNAME:PDT
DTSTART:20170312T100000
END:DAYLIGHT
BEGIN:STANDARD
TZOFFSETFROM:-0700
TZOFFSETTO:-0800
TZNAME:PST
DTSTART:20171105T090000
END:STANDARD
BEGIN:DAYLIGHT
TZOFFSETFROM:-0800
TZOFFSETTO:-0700
TZNAME:PDT
DTSTART:20180311T100000
END:DAYLIGHT
BEGIN:STANDARD
TZOFFSETFROM:-0700
TZOFFSETTO:-0800
TZNAME:PST
DTSTART:20181104T090000
END:STANDARD
END:VTIMEZONE
BEGIN:VEVENT
DTSTART;TZID=America/Los_Angeles:20170912T120000
DTEND;TZID=America/Los_Angeles:20170912T130000
DTSTAMP:20260424T071335
CREATED:20180430T090026Z
LAST-MODIFIED:20180430T090209Z
UID:2727-1505217600-1505221200@espanol.natividad.com
SUMMARY:Personalized Oncology – Is it myth or reality?
DESCRIPTION:Arina Ganeles\, MD\, Hematologist\, Community Hospital of the Monterey Peninsula\npresented by Arina Ganeles\, MD\, Hematologist\, Community Hospital of the Monterey Peninsula \n\nEvery patient is different. Every tumor is different.  Personalized cancer treatment is a delivery of the right treatment\, based on the tumor genomics (somatic mutations) as well as on individual genetics (germ line mutations) of each patient.  The research into cancer biology is propelling rapid development of novel treatments targeting the key molecules that allow cancers to grow and spread. This strategy resulted in new targeted therapies for people living with advanced cancers of the lung\, breast\, and kidney\, as well as several hard-to-treat forms of blood cancer.  Today\, new molecular technologies can quickly pinpoint molecular changes in the tumor or free-floating cancer DNA in the blood. For a growing number of patients\, such changes can be matched to either existing targeted treatments or experimental treatments that are being tested in clinical trials. \n\n  \nDesired Outcomes: \n\nDefine ” Precision Oncology”\nIdentify the difference between the effect of chemotherapy and “target” therapy on cancer cells\nIdentify the role of Whole Genome Sequencing of tumor cell in treatment of cancer\nRecognize the difference between “somatic” and “germline” mutation\nDescribe the future direction of “precision medicine”\nApply new knowledge in conversations with patients and with appropriate referrals\n\nCME Activity Flyer (PDF)
URL:https://espanol.natividad.com/event/personalized-oncology-is-it-myth-or-reality/
LOCATION:CA
CATEGORIES:CME Activity
END:VEVENT
END:VCALENDAR